BEGIN:VCALENDAR
VERSION:2.0
PRODID:-//Charity - ECPv6.15.20//NONSGML v1.0//EN
CALSCALE:GREGORIAN
METHOD:PUBLISH
X-WR-CALNAME:Charity
X-ORIGINAL-URL:https://guiainc.org
X-WR-CALDESC:Events for Charity
REFRESH-INTERVAL;VALUE=DURATION:PT1H
X-Robots-Tag:noindex
X-PUBLISHED-TTL:PT1H
BEGIN:VTIMEZONE
TZID:America/Los_Angeles
BEGIN:DAYLIGHT
TZOFFSETFROM:-0800
TZOFFSETTO:-0700
TZNAME:PDT
DTSTART:20220313T100000
END:DAYLIGHT
BEGIN:STANDARD
TZOFFSETFROM:-0700
TZOFFSETTO:-0800
TZNAME:PST
DTSTART:20221106T090000
END:STANDARD
BEGIN:DAYLIGHT
TZOFFSETFROM:-0800
TZOFFSETTO:-0700
TZNAME:PDT
DTSTART:20230312T100000
END:DAYLIGHT
BEGIN:STANDARD
TZOFFSETFROM:-0700
TZOFFSETTO:-0800
TZNAME:PST
DTSTART:20231105T090000
END:STANDARD
BEGIN:DAYLIGHT
TZOFFSETFROM:-0800
TZOFFSETTO:-0700
TZNAME:PDT
DTSTART:20240310T100000
END:DAYLIGHT
BEGIN:STANDARD
TZOFFSETFROM:-0700
TZOFFSETTO:-0800
TZNAME:PST
DTSTART:20241103T090000
END:STANDARD
BEGIN:DAYLIGHT
TZOFFSETFROM:-0800
TZOFFSETTO:-0700
TZNAME:PDT
DTSTART:20250309T100000
END:DAYLIGHT
BEGIN:STANDARD
TZOFFSETFROM:-0700
TZOFFSETTO:-0800
TZNAME:PST
DTSTART:20251102T090000
END:STANDARD
BEGIN:DAYLIGHT
TZOFFSETFROM:-0800
TZOFFSETTO:-0700
TZNAME:PDT
DTSTART:20260308T100000
END:DAYLIGHT
BEGIN:STANDARD
TZOFFSETFROM:-0700
TZOFFSETTO:-0800
TZNAME:PST
DTSTART:20261101T090000
END:STANDARD
END:VTIMEZONE
BEGIN:VEVENT
DTSTART;TZID=America/Los_Angeles:20250614T110000
DTEND;TZID=America/Los_Angeles:20250614T150000
DTSTAMP:20260421T230217
CREATED:20250513T083149Z
LAST-MODIFIED:20250513T083149Z
UID:775-1749898800-1749913200@guiainc.org
SUMMARY:Local Vendors Market
DESCRIPTION:Join us to meet and support local vendors
URL:https://guiainc.org/event/local-vendors-market/
LOCATION:The Well\, 4340 N Lombard Street\, Portland\, OR\, 97203\, United States
ATTACH;FMTTYPE=image/jpeg:https://guiainc.org/wp-content/uploads/2025/05/1000008516.jpg
END:VEVENT
BEGIN:VEVENT
DTSTART;TZID=America/Los_Angeles:20250531T120000
DTEND;TZID=America/Los_Angeles:20250531T160000
DTSTAMP:20260421T230217
CREATED:20250513T082830Z
LAST-MODIFIED:20250513T082830Z
UID:768-1748692800-1748707200@guiainc.org
SUMMARY:4th Annual Faubion Community Car Show
DESCRIPTION:Hosted by Guia Inc\, the car show is more than just an exhibition of vehicles; it’s a community gathering aimed at fostering connections across generations and cultures. Attendees can expect a vibrant atmosphere filled with unique cars\, music\, and opportunities to engage with local organizations.
URL:https://guiainc.org/event/4th-annual-faubion-community-car-show/
LOCATION:Faubion School\, 2930 NE Dekum St\, Portland\, OR\, 97211\, United States
ATTACH;FMTTYPE=image/png:https://guiainc.org/wp-content/uploads/2025/05/1000008726.png
END:VEVENT
BEGIN:VEVENT
DTSTART;TZID=America/Los_Angeles:20250516T160000
DTEND;TZID=America/Los_Angeles:20250516T200000
DTSTAMP:20260421T230217
CREATED:20250513T083408Z
LAST-MODIFIED:20250513T083408Z
UID:778-1747411200-1747425600@guiainc.org
SUMMARY:Game Night
DESCRIPTION:Let the games begin! \n\nBoard Games\nTrivia Challenges\nCard Games & More
URL:https://guiainc.org/event/game-night/
LOCATION:Game night\, 783 SE 185th Ave\, Gresham\, OR\, 97233\, United States
ATTACH;FMTTYPE=image/jpeg:https://guiainc.org/wp-content/uploads/2025/05/1000008618.jpg
END:VEVENT
BEGIN:VEVENT
DTSTART;TZID=America/Los_Angeles:20230610T110000
DTEND;TZID=America/Los_Angeles:20230610T110000
DTSTAMP:20260421T230217
CREATED:20230605T232220Z
LAST-MODIFIED:20230605T232706Z
UID:519-1686394800-1686394800@guiainc.org
SUMMARY:Basketball Tournament
DESCRIPTION:Empowering youth through sports. There will be food and prizes.\nEvent is sponsored by Guia Inc and Safer Summer
URL:https://guiainc.org/event/basketball-tournament/
LOCATION:Roosevelt High School\, 6941 N Central St\, Portland\, 97203\, United States
END:VEVENT
END:VCALENDAR